Workbook

Sheet Multiple Asset
B2: Security | C2: SPY | D2: BND | E2: GLD | F2: QQQ | G2: VTI
B3: Annual Return | C3: =EXP(AVERAGE('Stock Price Data'!H4:H2513)*252)-1 -> 0.15716634 | D3: =EXP(AVERAGE('Stock Price Data'!I4:I2513)*252)-1 -> 0.012965218 | E3: =EXP(AVERAGE('Stock Price Data'!J4:J2513)*252)-1 -> 0.12401255 | F3: =EXP(AVERAGE('Stock Price Data'!K4:K2513)*252)-1 -> 0.21349091 | G3: =EXP(AVERAGE('Stock Price Data'!L4:L2513)*252)-1 -> 0.15200473
B4: Standard Deviation | C4: =SQRT(_xlfn.VAR.P('Stock Price Data'!H4:H2513)*252) -> 0.17989251 | D4: =SQRT(_xlfn.VAR.P('Stock Price Data'!I4:I2513)*252) -> 0.055648022 | E4: =SQRT(_xlfn.VAR.P('Stock Price Data'!J4:J2513)*252) -> 0.16464258 | F4: =SQRT(_xlfn.VAR.P('Stock Price Data'!K4:K2513)*252) -> 0.22594618 | G4: =SQRT(_xlfn.VAR.P('Stock Price Data'!L4:L2513)*252) -> 0.18346955
B5: Minimum Weight | C5: 0.1 | D5: 0.1 | E5: 0.1 | F5: 0.1 | G5: 0.1
B6: Maximum Weight | C6: 0.4 | D6: 0.4 | E6: 0.4 | F6: 0.4 | G6: 0.4
B7: Optimal Weight | C7: 0.1 | D7: 0.1 | E7: 0.32153807 | F7: 0.37846193 | G7: 0.1
B9: Portfolio Summary
B10: Expected Return | C10: =SUMPRODUCT(C3:G3,C7:G7) -> 0.15288657
B11: Standard Deviation | C11: {=SQRT(MMULT(MMULT(C7:G7, C18:G22), TRANSPOSE(C7:G7)*252))} -> 0.13853841
B12: Risk Free Rate | C12: 0.0531
B13: Total Weight | C13: =SUM(C7:G7) -> 1
B14: Sharpe Ratio | C14: =(C10-C12)/C11 -> 0.72028085
B16: Covariance Matrix
C17: SPY | D17: BND | E17: GLD | F17: QQQ | G17: VTI
B18: SPY | C18: =VARP('Stock Price Data'!$H$4:$H$2513) -> 0.00012841791 | D18: {=TRANSPOSE(C19:C22)} -> 6.1531896e-06 | E18: 1.2758599e-05 | F18: 0.00015028087 | G18: 0.00013044465
B19: BND | C19: 6.1531896e-06 | D19: =VARP('Stock Price Data'!$I$4:$I$2513) -> 1.2288502e-05 | E19: {=TRANSPOSE(D20:D22)} -> 1.1256113e-05 | F19: 7.5658574e-06 | G19: 6.5655053e-06
B20: GLD | C20: 1.2758599e-05 | D20: 1.1256113e-05 | E20: =VARP('Stock Price Data'!$J$4:$J$2513) -> 0.00010756817 | F20: {=TRANSPOSE(E21:E22)} -> 1.8600453e-05 | G20: 1.3485506e-05
B21: QQQ | C21: 0.00015028087 | D21: 7.5658574e-06 | E21: 1.8600453e-05 | F21: =VARP('Stock Price Data'!$K$4:$K$2513) -> 0.00020258602 | G21: =F22 -> 0.00015234888
B22: VTI | C22: 0.00013044465 | D22: 6.5655053e-06 | E22: 1.3485506e-05 | F22: 0.00015234888 | G22: =VARP('Stock Price Data'!$L$4:$L$2513) -> 0.0001335757

Sheet Stock Price Data
A2: Date | B2: SPY | C2: BND | D2: GLD | E2: QQQ | F2: VTI | H2: SPY | I2: BND | J2: GLD | K2: QQQ | L2: VTI
A3: 42656 | B3: 181.90953 | C3: 61.764297 | D3: 120.03 | E3: 109.3366 | F3: 93.302048 | H3: SPY | I3: BND | J3: GLD | K3: QQQ | L3: VTI
A4: 42657 | B4: 182.00346 | C4: 61.638432 | D4: 119.36 | E4: 109.46743 | F4: 93.276421 | H4: =LN(B4/B3) -> 0.00051623937 | I4: =LN(C4/C3) -> -0.0020399221 | J4: =LN(D4/D3) -> -0.0055975598 | K4: =LN(E4/E3) -> 0.0011958543 | L4: =LN(F4/F3) -> -0.00027470626
A5: 42660 | B5: 181.37157 | C5: 61.771679 | D5: 119.68 | E5: 109.16837 | F5: 93.012054 | H5: =LN(B5/B4) -> -0.0034779363 | I5: =LN(C5/C4) -> 0.0021594248 | J5: =LN(D5/D4) -> 0.0026773752 | K5: =LN(E5/E4) -> -0.0027357352 | L5: =LN(F5/F4) -> -0.0028382467
A6: 42661 | B6: 182.50732 | C6: 61.853146 | D6: 120.42 | E6: 110.1403 | F6: 93.557877 | H6: =LN(B6/B5) -> 0.0062425228 | I6: =LN(C6/C5) -> 0.0013179665 | J6: =LN(D6/D5) -> 0.0061641001 | K6: =LN(E6/E5) -> 0.0088636519 | L6: =LN(F6/F5) -> 0.0058511433
A7: 42662 | B7: 182.99414 | C7: 61.897526 | D7: 121.11 | E7: 110.13091 | F7: 93.856384 | H7: =LN(B7/B6) -> 0.002663829 | I7: =LN(C7/C6) -> 0.0007172517 | J7: =LN(D7/D6) -> 0.0057136117 | K7: =LN(E7/E6) -> -8.5274739e-05 | L7: =LN(F7/F6) -> 0.0031855414
A8: 42663 | B8: 182.65251 | C8: 61.860497 | D8: 120.74 | E8: 110.00008 | F8: 93.677277 | H8: =LN(B8/B7) -> -0.0018686299 | I8: =LN(C8/C7) -> -0.00059841401 | J8: =LN(D8/D7) -> -0.0030597729 | K8: =LN(E8/E7) -> -0.0011886457 | L8: =LN(F8/F7) -> -0.0019101394
A9: 42664 | B9: 182.73795 | C9: 61.912315 | D9: 120.83 | E9: 110.41125 | F9: 93.643188 | H9: =LN(B9/B8) -> 0.00046763105 | I9: =LN(C9/C8) -> 0.00083732202 | J9: =LN(D9/D8) -> 0.00074515852 | K9: =LN(E9/E8) -> 0.0037310157 | L9: =LN(F9/F8) -> -0.00036395527
A10: 42667 | B10: 183.51511 | C10: 61.823502 | D10: 120.56 | E10: 111.73826 | F10: 94.112236 | H10: =LN(B10/B9) -> 0.0042438517 | I10: =LN(C10/C9) -> -0.001435539 | J10: =LN(D10/D9) -> -0.0022370801 | K10: =LN(E10/E9) -> 0.011947082 | L10: =LN(F10/F9) -> 0.0049963779
A11: 42668 | B11: 182.90016 | C11: 61.823502 | D11: 121.47 | E11: 111.38313 | F11: 93.711395 | H11: =LN(B11/B10) -> -0.003356547 | I11: =LN(C11/C10) -> 0 | J11: =LN(D11/D10) -> 0.0075197947 | K11: =LN(E11/E10) -> -0.0031832513 | L11: =LN(F11/F10) -> -0.0042682741
A12: 42669 | B12: 182.53293 | C12: 61.712452 | D12: 120.79 | E12: 110.62619 | F12: 93.429939 | H12: =LN(B12/B11) -> -0.002009853 | I12: =LN(C12/C11) -> -0.001797852 | J12: =LN(D12/D11) -> -0.0056138206 | K12: =LN(E12/E11) -> -0.0068190441 | L12: =LN(F12/F11) -> -0.0030079534
A13: 42670 | B13: 182.04622 | C13: 61.54221 | D13: 121.01 | E13: 110.12154 | F13: 93.114395 | H13: =LN(B13/B12) -> -0.002669982 | I13: =LN(C13/C12) -> -0.00276245 | J13: =LN(D13/D12) -> 0.0018196963 | K13: =LN(E13/E12) -> -0.0045722311 | L13: =LN(F13/F12) -> -0.0033830503
A14: 42671 | B14: 181.50819 | C14: 61.512619 | D14: 121.58 | E14: 109.43002 | F14: 92.807373 | H14: =LN(B14/B13) -> -0.0029598062 | I14: =LN(C14/C13) -> -0.0004809337 | J14: =LN(D14/D13) -> 0.0046992929 | K14: =LN(E14/E13) -> -0.0062993435 | L14: =LN(F14/F13) -> -0.003302705
A15: 42674 | B15: 181.51672 | C15: 61.579262 | D15: 121.94 | E15: 109.32722 | F15: 92.867081 | H15: =LN(B15/B14) -> 4.6992163e-05 | I15: =LN(C15/C14) -> 0.0010828134 | J15: =LN(D15/D14) -> 0.0029566431 | K15: =LN(E15/E14) -> -0.00093984058 | L15: =LN(F15/F14) -> 0.00064314333
... A2513: 46304 | B2513: 778.57001 | C2513: 70.220001 | D2513: 384.57999 | E2513: 751.27002 | F2513: 381.94 | H2513: =LN(B2513/B2512) -> 0.0059774924 | I2513: =LN(C2513/C2512) -> 0 | J2513: =LN(D2513/D2512) -> 0.015618744 | K2513: =LN(E2513/E2512) -> 0.004923788 | L2513: =LN(F2513/F2512) -> 0.0062508539
